BEGIN:VCALENDAR
VERSION:2.0
METHOD:PUBLISH
PRODID:-//Telerik Inc.//Sitefinity CMS 15.4//EN
BEGIN:VTIMEZONE
TZID:Eastern Standard Time
BEGIN:STANDARD
DTSTART:20251102T020000
RRULE:FREQ=YEARLY;BYDAY=1SU;BYHOUR=2;BYMINUTE=0;BYMONTH=11
TZNAME:Eastern Standard Time
TZOFFSETFROM:-0400
TZOFFSETTO:-0500
END:STANDARD
BEGIN:DAYLIGHT
DTSTART:20250301T020000
RRULE:FREQ=YEARLY;BYDAY=2SU;BYHOUR=2;BYMINUTE=0;BYMONTH=3
TZNAME:Eastern Daylight Time
TZOFFSETFROM:-0500
TZOFFSETTO:-0400
END:DAYLIGHT
END:VTIMEZONE
BEGIN:VEVENT
DESCRIPTION:Presented by: Bureau of Deferred CompensationThe Bureau of Defe
 rred Compensation invites you to register for our Fall workshop that will 
 cover an overview of the Plan\,&nbsp\;resources for employers\, and traini
 ng tools for employees.Type of Presentation:&nbsp\;In-Person / WebinarLoca
 tion (In-Person):Hermitage Centre\, 1st Floor Conference Room1801 Hermitag
 e Blvd.Tallahassee\, FL 32308(Capacity:&nbsp\;Limited to 100 Seats)Platfor
 m (Webinar):Microsoft Teams*Register Here*Link will be provided in your re
 gistration confirmation.
DTEND:20250902T150000Z
DTSTAMP:20260425T200736Z
DTSTART:20250902T140000Z
LOCATION:
SEQUENCE:0
SUMMARY:Fall 2025 Florida Deferred Compensation Plan Employer Training
UID:RFCALITEM639127300566826567
X-ALT-DESC;FMTTYPE=text/html:<p>Presented by: <strong>Bureau of Deferred Co
 mpensation</strong><strong></strong></p><p>The Bureau of Deferred Compensa
 tion invites you to register for our Fall workshop that will cover an over
 view of the Plan\,&nbsp\;resources for employers\, and training tools for 
 employees.</p><p><strong>Type of Presentation:</strong>&nbsp\;In-Person / 
 Webinar</p><p><strong>Location (In-Person):</strong><br />Hermitage Centre
 \, 1st Floor Conference Room<br />1801 Hermitage Blvd.<br />Tallahassee\, 
 FL 32308<br />(Capacity:&nbsp\;Limited to 100 Seats)</p><p><strong>Platfor
 m (Webinar):</strong><br />Microsoft Teams*<br /></p><p><a target="_blank"
  href="http://myfloridacfo.com/deferredcomp/event-registrations/fall-2025-
 florida-deferred-compensation-plan-employer-training-september-2-2025-10-0
 0-am"><strong>Register Here</strong></a></p><p><em>*Link will be provided 
 in your registration confirmation.</em></p>
END:VEVENT
END:VCALENDAR
